BEGIN:VCALENDAR
VERSION:2.0
PRODID:-//California Teachers Summit - ECPv4.4.5//NONSGML v1.0//EN
CALSCALE:GREGORIAN
METHOD:PUBLISH
X-WR-CALNAME:California Teachers Summit
X-ORIGINAL-URL:http://cateacherssummit.com
X-WR-CALDESC:Events for California Teachers Summit
BEGIN:VEVENT
DTSTART;TZID=America/Los_Angeles:20181024T160000
DTEND;TZID=America/Los_Angeles:20181024T170000
DTSTAMP:20260421T052907
CREATED:20181024T154601Z
LAST-MODIFIED:20181024T155042Z
UID:1333-1540396800-1540400400@cateacherssummit.com
SUMMARY:Webinar: Integrated ELD Instruction in PreK-6 Grade Math
DESCRIPTION:Participants in this webinar will hear from experts and discover immediate steps that can be taken to deepen their ability to develop and implement instructional strategies  designed to integrate math and English learners’ needs and positively impact student achievement. Click here to learn more and register.
URL:http://cateacherssummit.com/event/webinar-integrated-eld-instruction-in-prek-6-grade-math/
CATEGORIES:Online Event
ORGANIZER;CN="Brandman%20University":MAILTO:btran3@brandman.edu
END:VEVENT
END:VCALENDAR