BEGIN:VCALENDAR
VERSION:2.0
PRODID:-//California Teachers Summit - ECPv4.4.5//NONSGML v1.0//EN
CALSCALE:GREGORIAN
METHOD:PUBLISH
X-WR-CALNAME:California Teachers Summit
X-ORIGINAL-URL:http://cateacherssummit.com
X-WR-CALDESC:Events for California Teachers Summit
BEGIN:VEVENT
DTSTART;TZID=America/Los_Angeles:20180928T160000
DTEND;TZID=America/Los_Angeles:20180928T170000
DTSTAMP:20260421T052759
CREATED:20180917T191817Z
LAST-MODIFIED:20180917T191923Z
UID:1317-1538150400-1538154000@cateacherssummit.com
SUMMARY:Webinar: How to Deepen Student Understanding of Math
DESCRIPTION:Participants in this webinar will hear from an expert and discover immediate steps that can be taken to deepen their math understanding\, boost their confidence\, and provide instructional strategies that will positively impact students’ abilities. Click here to learn more and register.
URL:http://cateacherssummit.com/event/webinar-how-to-deepen-student-understanding-of-math/
CATEGORIES:Online Event
ORGANIZER;CN="Brandman%20University":MAILTO:btran3@brandman.edu
END:VEVENT
END:VCALENDAR