BEGIN:VCALENDAR
VERSION:2.0
PRODID:-//California Teachers Summit - ECPv4.4.5//NONSGML v1.0//EN
CALSCALE:GREGORIAN
METHOD:PUBLISH
X-WR-CALNAME:California Teachers Summit
X-ORIGINAL-URL:http://cateacherssummit.com
X-WR-CALDESC:Events for California Teachers Summit
BEGIN:VEVENT
DTSTART;TZID=America/Los_Angeles:20181105T160000
DTEND;TZID=America/Los_Angeles:20181105T170000
DTSTAMP:20260421T071214
CREATED:20181024T155545Z
LAST-MODIFIED:20181102T165838Z
UID:1336-1541433600-1541437200@cateacherssummit.com
SUMMARY:Webinar: Developing Emotional Intelligence for K12 Teachers
DESCRIPTION:Participants in this webinar will hear from an expert and discover immediate steps to strengthen emotional intelligence\, improve leadership performance\, and devise an action plan to integrate these practices into the classroom. Click here to learn more and register.
URL:http://cateacherssummit.com/event/webinar-developing-emotional-intelligence-for-k12-teachers/
CATEGORIES:Online Event
ORGANIZER;CN="Brandman%20University":MAILTO:btran3@brandman.edu
END:VEVENT
END:VCALENDAR