BEGIN:VCALENDAR
VERSION:2.0
PRODID:-//California Teachers Summit - ECPv4.4.5//NONSGML v1.0//EN
CALSCALE:GREGORIAN
METHOD:PUBLISH
X-WR-CALNAME:California Teachers Summit
X-ORIGINAL-URL:http://cateacherssummit.com
X-WR-CALDESC:Events for California Teachers Summit
BEGIN:VEVENT
DTSTART;TZID=America/Los_Angeles:20180215T160000
DTEND;TZID=America/Los_Angeles:20180215T170000
DTSTAMP:20260420T134211
CREATED:20180116T221909Z
LAST-MODIFIED:20180130T215744Z
UID:1039-1518710400-1518714000@cateacherssummit.com
SUMMARY:Webinar: 5 Essential Keys for Successful STEM Integration and How to Avoid the Most Common Mistakes
DESCRIPTION:\n\nEffective STEM education creates innovators\, critical thinkers\, and increases Math and Science literacy and its relevance to the real world. Join Brandman University’s STEM expert in this live webinar to discuss the common pitfalls and obtain practical strategies you can use immediately for successful STEM integration. Participants will learn how to design and adapt STEM lessons which incorporate procedures to ensure strong classroom management and lesson delivery.\n\nParticipants will also have the opportunity to dive in deeper after the webinar through Brandman’s Directed Study course “STEM Integration for PreK-6.” Through a grant\, the first twenty-five individuals who register for the course will be able to participate in the professional learning at no cost\, usually $400 per participant.*\n\nIn this webinar we will focus on:\n\n \t5 essential keys for successful STEM integration\n \tWhat is the rationale for STEM education in K-12 classrooms\n \tHow to evaluate possible STEM lessons for their effectiveness in teaching STEM\n \tWhat are the challenges and barriers to integrating STEM into the classroom\n \tHow to effectively adapt and design STEM lessons\n\n*This event is hosted by Brandman University and made possible through generous grant from the Better Together CA Teachers Summit.\n\nClick here to register for this free webinar.
URL:http://cateacherssummit.com/event/webinar-5-essential-keys-for-successful-stem-integration-and-how-to-avoid-the-most-common-mistakes/
CATEGORIES:Online Event
ORGANIZER;CN="Brandman%20University":MAILTO:btran3@brandman.edu
END:VEVENT
END:VCALENDAR