BEGIN:VCALENDAR
VERSION:2.0
PRODID:-//California Teachers Summit - ECPv4.4.5//NONSGML v1.0//EN
CALSCALE:GREGORIAN
METHOD:PUBLISH
X-WR-CALNAME:California Teachers Summit
X-ORIGINAL-URL:http://cateacherssummit.com
X-WR-CALDESC:Events for California Teachers Summit
BEGIN:VEVENT
DTSTART;TZID=America/Los_Angeles:20181127T163000
DTEND;TZID=America/Los_Angeles:20181127T210000
DTSTAMP:20260421T090001
CREATED:20181024T155644Z
LAST-MODIFIED:20181102T165637Z
UID:1338-1543336200-1543352400@cateacherssummit.com
SUMMARY:Edcamp Model Event on Equity-Centered Curriculum\, Instruction\, and Policy Professional Learning
DESCRIPTION:Employing the Edcamp model of professional development\, learned from Better Together\, selected district teachers\, administrators\, and selected university faculty will engage in collaborative learning\, inquiry\, and capacity building in the pursuit of equity-centered curriculum\, instruction\, and policy.  
URL:http://cateacherssummit.com/event/university-and-district-partnership-on-equity-centered-curriculum-instruction-and-policy-professional-learning/
LOCATION:Gregory Hall\, 1200 East Colton Avenue\, Redlands\, CA\, 92373\, United States
CATEGORIES:Local Event
ORGANIZER;CN="University%20of%20Redlands":MAILTO:jose_lalas@redlands.edu
END:VEVENT
END:VCALENDAR