BEGIN:VCALENDAR
VERSION:2.0
PRODID:-//California Teachers Summit - ECPv4.4.5//NONSGML v1.0//EN
CALSCALE:GREGORIAN
METHOD:PUBLISH
X-WR-CALNAME:California Teachers Summit
X-ORIGINAL-URL:http://cateacherssummit.com
X-WR-CALDESC:Events for California Teachers Summit
BEGIN:VEVENT
DTSTART;TZID=America/Los_Angeles:20161114T190000
DTEND;TZID=America/Los_Angeles:20161114T200000
DTSTAMP:20260420T072553
CREATED:20161108T075357Z
LAST-MODIFIED:20161221T214828Z
UID:584-1479150000-1479153600@cateacherssummit.com
SUMMARY:Twitter Chat #BetterTogetherCA - Mind Set? Exploring Optimal Learning Environments
DESCRIPTION:In this session we'll talk about how mindset can impact your learning environment and share some strategies for creating an optimal learning environment.\n\n \tQ1: What do you know about #mindsets and how they influence teaching and learning? #BetterTogetherCA\n \tQ2: Tell us briefly how you feel the relationships in your classroom and school are going #BetterTogetherCA\n \tQ3: How do you create positive relationships that are caring and respectful? How does your mindset influence your relationships? #BetterTogetherCA\n \tQ4: How have you co-created classroom design with students? What procedures do you develop with students? #BetterTogetherCA\n \tQ5: Have you incorporated self-directed learning opportunities in your class\, and if so\, what opportunities do you provide? #BetterTogetherCA\n \tQ6: How do you leverage student strengths to support academic\, social and emotional learning? #BetterTogetherCA\n \tQ7: Do you provide multiple pathways for students to demonstrate learning? If so\, how? #BetterTogetherCA\n \tQ8: What do you want to know about giving feedback that supports growth mindsets? #BetterTogetherCA\n\nWith special guest Anne Childers. Anne currently works as an Instructional Designer at the New Teacher Center in Santa Cruz\, California. Her professional background in education includes classroom teaching\, mentoring new teachers\, and mentor and coach development. Her passion is in creating professional development that focuses on developing teachers that are compassionate\, curious and instructionally focused on developing 21st Century skills. Anne has a bachelors in Journalism and a Master's in Educational Technology Leadership and a professional background in both print and web media.
URL:http://cateacherssummit.com/event/twitter-edchat-bettertogetherca-mind-set-exploring-optimal-learning-environments/
CATEGORIES:Online Event,Twitter Chat
ATTACH;FMTTYPE=image/png:http://cateacherssummit.com/wp-content/uploads/2016/11/CHAT.png
END:VEVENT
END:VCALENDAR