BEGIN:VCALENDAR
VERSION:2.0
PRODID:-//California Teachers Summit - ECPv4.4.5//NONSGML v1.0//EN
CALSCALE:GREGORIAN
METHOD:PUBLISH
X-WR-CALNAME:California Teachers Summit
X-ORIGINAL-URL:http://cateacherssummit.com
X-WR-CALDESC:Events for California Teachers Summit
BEGIN:VEVENT
DTSTART;TZID=America/Los_Angeles:20160815T190000
DTEND;TZID=America/Los_Angeles:20160815T200000
DTSTAMP:20260420T123135
CREATED:20160728T213603Z
LAST-MODIFIED:20161221T215328Z
UID:511-1471287600-1471291200@cateacherssummit.com
SUMMARY:Twitter Chat #BetterTogetherCA - Bringing The Summit Back To Your Classroom
DESCRIPTION:In this session we will review some of the key tools\, resources\, strategies we uncovered at the CA Teachers Summit and discuss how we can implement them in the classroom to support student success.\n \n\n \tQ1 7:06 What was your one "a ha" moment from the Summit? How will it translate to help kids?\n \tQ2 7:14 Give a shout-out to some people you met at the Summit. How will they impact your role as an educator moving forward?\n \tQ3 7:22 The Summit featured an "EdCamp" style of professional learning. Is this something you can replicate in your own environment?\n \tQ4 7:30 Technology integration was discussed often in many of the Summit sessions. What tools will you be trying this school year?\n \tQ5 7:38 The keynote speakers were truly inspiring. What was their message and how will it impact your educational environment?\n \tQ6 7:46 The EdTalks were an important part of the Summit. Who spoke at your location and what were the key takeaways?\n
URL:http://cateacherssummit.com/event/twitter-edchat-bettertogetherca-bringing-the-summit-back-to-your-classroom/
CATEGORIES:Online Event,Twitter Chat
ATTACH;FMTTYPE=image/png:http://cateacherssummit.com/wp-content/uploads/2016/07/SocialMediaGraphics_TwitterChat2.png
END:VEVENT
END:VCALENDAR