BEGIN:VCALENDAR
VERSION:2.0
PRODID:-//California Teachers Summit - ECPv4.4.5//NONSGML v1.0//EN
CALSCALE:GREGORIAN
METHOD:PUBLISH
X-WR-CALNAME:California Teachers Summit
X-ORIGINAL-URL:http://cateacherssummit.com
X-WR-CALDESC:Events for California Teachers Summit
BEGIN:VEVENT
DTSTART;TZID=America/Los_Angeles:20180324T080000
DTEND;TZID=America/Los_Angeles:20180324T133000
DTSTAMP:20260420T152342
CREATED:20180129T231101Z
LAST-MODIFIED:20180201T015913Z
UID:1064-1521878400-1521898200@cateacherssummit.com
SUMMARY:Success for Students and Personalized Learning Workshop
DESCRIPTION:Through this Edcamp and EdTalk style event\, teacher-participants will connect to ideas and topics that resonate with their practice around Teacher Leadership and Personalized Learning. We will provide information on innovative practices that are working in classrooms right now. There will be many opportunities throughout the event for collegial conversation. The day will end with teachers developing action plans for how they will demonstrate leadership in their schools by sharing their ideas and implementing new learnings in their classrooms.\n\nLimited seats are available. Register by clicking here.\n\nThe event is free to all registered participants thanks to a grant provided by the Better Together Network. For more information please contact Jennifer Preimesberger at (858) 642-8813 or by email at jpreimesber@nu.edu.
URL:http://cateacherssummit.com/event/teacher-leadership-and-personalized-learning-workshop/
LOCATION:9388 Lightwave Avenue\, San Diego\, CA\, 92123-1426 \, United States
CATEGORIES:Local Event
ORGANIZER;CN="Sanford%20College%20of%20Education%2C%20National%20University":MAILTO:jpreimesber@nu.edu
END:VEVENT
END:VCALENDAR