BEGIN:VCALENDAR
VERSION:2.0
PRODID:-//California Teachers Summit - ECPv4.4.5//NONSGML v1.0//EN
CALSCALE:GREGORIAN
METHOD:PUBLISH
X-WR-CALNAME:California Teachers Summit
X-ORIGINAL-URL:http://cateacherssummit.com
X-WR-CALDESC:Events for California Teachers Summit
BEGIN:VEVENT
DTSTART;TZID=America/Los_Angeles:20190321T173000
DTEND;TZID=America/Los_Angeles:20190321T200000
DTSTAMP:20260421T140051
CREATED:20190304T192452Z
LAST-MODIFIED:20190304T192522Z
UID:1379-1553189400-1553198400@cateacherssummit.com
SUMMARY:Our Students Know More Than We Think and Think More Than We Know: Eliciting and Developing All Students' Mathematical Potential
DESCRIPTION:This event is an opportunity for educators and anyone interested in mathematics education to learn about efforts by local teachers to elicit and advance students' mathematical potential. Mathematics teaching and learning has traditionally over-emphasized rote memorization and low levels of cognition\, particularly for students with identified exceptional needs. Hear from a group of educators working to change the narrative and increase access to deeper mathematical understanding for all students.\n\n\n \t\nDr. Cathery Yeh will share information about her classroom-based research that challenges traditional beliefs and opens our minds to new possibilities in her keynote titled\, “Countering Deficit Myths of Students with Dis/Abilities: Developing Curriculum that Builds on Students’ Mathematical Potential.”\n\n \t\nThree local educators will give 10-minute Ed Talks about their experiences in OC schools supporting students with mathematical thinking and sense making.\n\n \t\nA panel discussion will involve all four speakers responding to questions and comments.\n\n\nDon’t miss out on a great night by teachers for teachers! Registration is FREE and dinner will be provided at no cost.\nFAQs\nWhat are my transportation/parking options for getting to and from the event?\nParking is free.\nHow can I contact the organizer with any questions?\nIf you have questions or concerns; please contact Luz Zapata via email at lzapata@fullerton.edu.\nWhat's the refund policy?\nThere is no refund policy available\, this event is FREE
URL:http://cateacherssummit.com/event/our-students-know-more-than-we-think-and-think-more-than-we-know-eliciting-and-developing-all-students-mathematical-potential/
LOCATION:501 N Crescent\, Anaheim\, CA\, 92801\, United States
CATEGORIES:Live Event,Local Event
END:VEVENT
END:VCALENDAR