BEGIN:VCALENDAR
VERSION:2.0
PRODID:-//California Teachers Summit - ECPv4.4.5//NONSGML v1.0//EN
CALSCALE:GREGORIAN
METHOD:PUBLISH
X-WR-CALNAME:California Teachers Summit
X-ORIGINAL-URL:http://cateacherssummit.com
X-WR-CALDESC:Events for California Teachers Summit
BEGIN:VEVENT
DTSTART;TZID=America/Los_Angeles:20190301T173000
DTEND;TZID=America/Los_Angeles:20190301T210000
DTSTAMP:20260421T120448
CREATED:20190208T191920Z
LAST-MODIFIED:20190208T220426Z
UID:1368-1551461400-1551474000@cateacherssummit.com
SUMMARY:Most Likely to Succeed Film Screening
DESCRIPTION:\n\n\nPlease join #BetterTogetherCA partner Loyola Marymount University for a screening of the award-winning documentary Most Likely to Succeed. Following the screening\, there will be an interactive discussion about re-imagining education in our classrooms and school systems. Hosted by the LMU School of Education Alumni Association with support from the Better Together: California Teachers Summit\, this is a community-wide event that is free and open to the public.\n\nThe celebrated film Most Likely to Succeed  offers an inspiring look at what students and teachers are capable of if we have the vision and courage to transform our schools. Directed by acclaimed documentarian Greg Whiteley\, the film has been an official selection of two dozen of the world’s top film festivals\, including Sundance\, Tribeca\, and AFI DOCS\, and has been featured at leading conferences on education. Audience members call it the most compelling film ever done on the topic of school. In the past year\, more than 3\,500 communities have hosted a screening of Most Likely to Succeed.\n\nComplimentary food and beverages will be provided. Please note\, space is limited.\n\nParking \n\n\n\n\n\n\nParking will be hosted onsite.\n\nFeatured Speakers\n\nGreg Whiteley\nDirector\, Writer and Producer of Most Likely to Succeed\n\nGreg Beck Whiteley is an American film director\, producer\, and writer\, known for New York Doll (2005)\, Resolved (2007)\, Mitt (2014)\, and Most Likely to Succeed (2015). He is also the creator and director of the Netflix documentary series Last Chance U (2016–present). Whiteley’s documentaries have garnered an IDA award for best documentary series\, two Emmy nominations and three premieres at the Sundance Film Festival.\n\nFrancesca Henderson\nDean of Students\, High Tech High International\n\nFrancesca Henderson\, known as Fran to her students\, is the Dean of Students at High Tech High School International (HTHI). Since starting at HTHI eight years ago\, she has served as a math teacher\, teacher coach\, and consultant\n\nFor Questions\, please contact:\n\nKathy Fregoso\n\nKathy.Fregoso@lmu.edu\n\n \n\n\n\n\n\nRSVP here by February 22!\n\n
URL:http://cateacherssummit.com/event/most-likely-to-succeed-film-screening/
LOCATION:12105 West Waterfront Drive\, Playa Vista \, Los Angeles\, CA\, 90045 \, United States
CATEGORIES:Live Event,Local Event
ATTACH;FMTTYPE=image/jpeg:http://cateacherssummit.com/wp-content/uploads/2019/02/LMU-Throughline-Graphic.jpg
END:VEVENT
END:VCALENDAR