BEGIN:VCALENDAR
VERSION:2.0
PRODID:-//California Teachers Summit - ECPv4.4.5//NONSGML v1.0//EN
CALSCALE:GREGORIAN
METHOD:PUBLISH
X-WR-CALNAME:California Teachers Summit
X-ORIGINAL-URL:http://cateacherssummit.com
X-WR-CALDESC:Events for California Teachers Summit
BEGIN:VEVENT
DTSTART;VALUE=DATE:20181101
DTEND;VALUE=DATE:20181102
DTSTAMP:20260421T052927
CREATED:20181010T210939Z
LAST-MODIFIED:20181010T211249Z
UID:1326-1541034000-1541120399@cateacherssummit.com
SUMMARY:Empowering Educators of Color:  FREE Continuing Ed Opportunity from Santa Clara University
DESCRIPTION:\n\nThe Center for Professional Development of Santa Clara University's School of Education and Counseling Psychology is excited to offer a unique continuing education opportunity for California teachers. We are looking for 15-20 educators who would like to participate in a 3-part learning/discussion series about the real issues that today's educators of color face.\n\nIf you're an educator who is interested in connection\, collaboration and networking\, if you'd like to discuss real-world challenges and opportunities that educators of color encounter\, if you want to inspire the next generation of educators\, or identify solutions that could be used to help with the recruitment and retention of educators of color\, then this is the place for you!\n\nWhat else is in it for you?\n   -   Food will be provided\n   -   You will earn 7.5 hours of official SCU continuing education credit (0.75 CEUs) at no cost\n   -   $75 gift card for teachers who attend all three sessions\n\nIf interested\, please use the link below and take 5-10 minutes to complete the following application before November 1. If selected\, you will be notified on November 12. Please forward this email along to any educators you feel might be interested in participating! If you have any questions\, please feel free to email our director\, Danielle Slaton.\n\nEmpowering Educators of Color Application\n\n\n
URL:http://cateacherssummit.com/event/empowering-educators-of-color-free-continuing-ed-opportunity-from-santa-clara-university/
LOCATION:500 El Camino Real\, Santa Clara\, CA\, 95053\, United States
CATEGORIES:Live Event
ORGANIZER;CN="Santa%20Clara%20University":MAILTO:dslaton@scu.edu
END:VEVENT
END:VCALENDAR