BEGIN:VCALENDAR
VERSION:2.0
PRODID:-//California Teachers Summit - ECPv4.4.5//NONSGML v1.0//EN
CALSCALE:GREGORIAN
METHOD:PUBLISH
X-WR-CALNAME:California Teachers Summit
X-ORIGINAL-URL:http://cateacherssummit.com
X-WR-CALDESC:Events for California Teachers Summit
BEGIN:VEVENT
DTSTART;TZID=America/Los_Angeles:20180324T080000
DTEND;TZID=America/Los_Angeles:20180324T160000
DTSTAMP:20260420T171314
CREATED:20180312T220639Z
LAST-MODIFIED:20180312T221034Z
UID:1141-1521878400-1521907200@cateacherssummit.com
SUMMARY:Critical Teaching in Action: Health\, Wellness and Social Justice
DESCRIPTION:Join Mount Saint Mary’s University – Los Angeles for their event\, "Critical Teaching in Action: Health\, Wellness and Social Justice\," which brings educators together to share innovative social justice curricula. Click here to view a flyer for the event\, and click here to register.\n\nHow can educators attend to our own self-care while working to make positive change for youth and their communities?\n\nThis one day conference is dedicated to helping educators and youth handle the effects of stress and trauma and enact self-care practices for body\, mind and spirit.\n\nKeynote Speaker Dr. Mona Saint of the Chopra Center will discuss the stress response\, our brain\, and tools to upshift our physiology.\n\nExciting workshops address such topics as: Self-care in Trying Times; Combatting Signs of Burnout; Stop\, Drop and Meditate; Yoga and Youth; A Dog in School: Disruptive Behavior and Trauma; Art as a Tool for Restorative Practice; The Resilience Toolkit and many more!\n\nA Special Film Screening of: Resilience: The Biology and Stress and the Science of Hope.
URL:http://cateacherssummit.com/event/critical-teaching-in-action-health-wellness-and-social-justice/
LOCATION:10 Chester Place\, Los Angeles\, CA\, 90007\, United States
ORGANIZER;CN="Mount%20Saint%20Mary%E2%80%99s%20University%20%E2%80%93%20Los%20Angeles":MAILTO:jabe@msmu.edu
END:VEVENT
END:VCALENDAR