BEGIN:VCALENDAR
VERSION:2.0
PRODID:-//California Teachers Summit - ECPv4.4.5//NONSGML v1.0//EN
CALSCALE:GREGORIAN
METHOD:PUBLISH
X-WR-CALNAME:California Teachers Summit
X-ORIGINAL-URL:http://cateacherssummit.com
X-WR-CALDESC:Events for California Teachers Summit
BEGIN:VEVENT
DTSTART;TZID=America/Los_Angeles:20180414T080000
DTEND;TZID=America/Los_Angeles:20180414T123000
DTSTAMP:20260420T170900
CREATED:20180301T190423Z
LAST-MODIFIED:20180329T174708Z
UID:1126-1523692800-1523709000@cateacherssummit.com
SUMMARY:Courageous Conversations on Current Critical Issues
DESCRIPTION:The University of Redlands School of Education and Center for Educational Justice eagerly invite you to join us for a day of...\nCourageous Conversations on Current Critical Issues: Teachers Meeting the Needs of Every Student\nWe are very excited to feature the following topics led by our local teachers and experts in the field:\n* Lived Experiences of ALL Students from Diverse Religious Backgrounds (e.g. Islamophobia)\n* Perspectives on Gender and Sexuality in Education\n* Challenges of English Learners\, Foster Kids\, and Students from Low SES including Undocumented Students/Teachers\nClick here to register for the event.
URL:http://cateacherssummit.com/event/courageous-conversations-on-current-critical-issues/
LOCATION:Gregory Hall\, 1200 East Colton Avenue\, Redlands\, CA\, 92373\, United States
ORGANIZER;CN="University%20of%20Redlands":MAILTO:jose_lalas@redlands.edu
END:VEVENT
END:VCALENDAR