BEGIN:VCALENDAR
VERSION:2.0
PRODID:-//California Teachers Summit - ECPv4.4.5//NONSGML v1.0//EN
CALSCALE:GREGORIAN
METHOD:PUBLISH
X-WR-CALNAME:California Teachers Summit
X-ORIGINAL-URL:http://cateacherssummit.com
X-WR-CALDESC:Events for California Teachers Summit
BEGIN:VEVENT
DTSTART;TZID=America/Los_Angeles:20180402T190000
DTEND;TZID=America/Los_Angeles:20180402T200000
DTSTAMP:20260420T194355
CREATED:20180301T190721Z
LAST-MODIFIED:20180328T004530Z
UID:1130-1522695600-1522699200@cateacherssummit.com
SUMMARY:#BetterTogetherCA Twitter Chat – It's Personal! Strategies to Personalize Learning in Your Classroom
DESCRIPTION:For our April #BetterTogetherCA Twitter chat\, we'll be chatting about strategies to personalize learning in your classroom. This chat will be moderated by Shannon Tabaldo (@TabaldoOnTech)\, founding director of the iDEAL Institute and director of digital curriculum integration and development for the School of Education at Loyola Marymount University. Don't miss it!\n\n\n\n \n\n \n\nShannon N. Tabaldo is the Founding Director of the iDEAL Institute and Director of Digital Curriculum Integration and Development for the School of Education at Loyola Marymount University. Before coming to LMU\, Shannon was the Director of Educational Technology at Marymount California University in Rancho Palos Verdes\, California. She has been a classroom teacher\, teaching technology to K-8 as well as Junior High Math. With over 20 years of technology experience and a passion for teaching\, she began to see the need for educational technology resources and the need for teacher training. Her personal and professional goal is to fulfill the need of training educators on technology that can be used in their classroom for the benefit of the students.\n\nShannon is currently researching blended learning in K-12 Catholic schools to achieve digital literacy and close the achievement gap.\n\nShannon sits on the school board for St. Columbkille Catholic School\, and the Technology Committee for Bishop Montgomery High.\n\nShannon has a B.S. in Business Administration from Linfield College and an M.A. in Catholic School Administration from Loyola Marymount University. She is a LeadingEdge Certified Professional Learning Leader\, a Google for Education Certified Innovator\, a Google Certified Power Searcher\, a Quality Matters Peer Reviewer\, as well as a Microsoft Office Application expert and an Apple App fanatic.\n\nIf you want to know what Shannon is thinking about or working on\, follow her on Twitter @TabaldoOnTech. She can be reached by email at stabaldo@lmu.edu.\n\n 
URL:http://cateacherssummit.com/event/bettertogetherca-twitter-chat-its-personal-strategies-to-personalize-learning-in-your-classroom/
CATEGORIES:Online Event,Twitter Chat
END:VEVENT
END:VCALENDAR