BEGIN:VCALENDAR
VERSION:2.0
PRODID:-//California Teachers Summit - ECPv4.4.5//NONSGML v1.0//EN
CALSCALE:GREGORIAN
METHOD:PUBLISH
X-WR-CALNAME:California Teachers Summit
X-ORIGINAL-URL:http://cateacherssummit.com
X-WR-CALDESC:Events for California Teachers Summit
BEGIN:VEVENT
DTSTART;TZID=America/Los_Angeles:20180507T190000
DTEND;TZID=America/Los_Angeles:20180507T200000
DTSTAMP:20260420T185318
CREATED:20180504T152746Z
LAST-MODIFIED:20180504T152746Z
UID:1203-1525719600-1525723200@cateacherssummit.com
SUMMARY:#BetterTogetherCA Twitter Chat - Elevating Teacher Voice
DESCRIPTION:To celebrate the work teachers do all year round\, during May the #BetterTogetherCA community will be talking about how to elevate and appreciate teacher voice.\n\nWe’re especially excited about this month’s #BetterTogetherCA Twitter chat on Elevating Teacher Voice with four incredible California educators from across the state: Peter Paccone\, Alice Chen\, Laura Bradley\, and Scott Petri. All four teachers share their voice through the KQED In The Classroom blog. Join us Monday\, May 7th at 7 p.m. PST for the conversation!\n\n \n\n
URL:http://cateacherssummit.com/event/bettertogetherca-twitter-chat-elevating-teacher-voice/
CATEGORIES:Online Event,Twitter Chat
END:VEVENT
END:VCALENDAR