BEGIN:VCALENDAR
VERSION:2.0
PRODID:-//California Teachers Summit - ECPv4.4.5//NONSGML v1.0//EN
CALSCALE:GREGORIAN
METHOD:PUBLISH
X-WR-CALNAME:California Teachers Summit
X-ORIGINAL-URL:http://cateacherssummit.com
X-WR-CALDESC:Events for California Teachers Summit
BEGIN:VEVENT
DTSTART;TZID=America/Los_Angeles:20180806T190000
DTEND;TZID=America/Los_Angeles:20180806T200000
DTSTAMP:20260421T000712
CREATED:20180726T192000Z
LAST-MODIFIED:20180726T192000Z
UID:1276-1533582000-1533585600@cateacherssummit.com
SUMMARY:#BetterTogetherCA Twitter Chat – Back to School: Putting Your Summit Learnings into Practice
DESCRIPTION:For our August #BetterTogetherCA Twitter chat\, we’ll be discussing what we learned at the July Better Together: California Teachers Summit and how we can put those learnings into practice for the new school year. Join us!\n\nThe chat will be moderated by #BetterTogetherCA Summit Teacher Panelist and Advisory Committee Member\, Sarah Kesty.\n\nSarah Kesty has worked with students with a range of disabilities for over twelve years. She has a Masters in Special Education from Sacramento State and two teaching credentials. Sarah is a passionate advocate for people with disabilities. She has experience teaching Kindergarten through high school aged students and coaching Special Olympics.\n\nSarah has spoken to groups of teachers\, parents\, and students about disability awareness\, advocacy\, and maximizing life satisfaction. Her speaking has taken her all the way to Belize\, where she taught a seminar on behavior management to a group of 150 teachers.\n\nSarah is on the advisory board for the CMTA\, Charcot-Marie-Tooth Association. She writes and presents for CARS+\, the organization for special education teachers. In 2014\, Sarah was named Twin Rivers School District's Teacher of the Year. Sarah lives in San Diego\, where she is an Academic Coach for special education programs.
URL:http://cateacherssummit.com/event/bettertogetherca-twitter-chat-back-to-school-putting-your-summit-learnings-into-practice/
CATEGORIES:Online Event,Twitter Chat
END:VEVENT
END:VCALENDAR