BEGIN:VCALENDAR
VERSION:2.0
PRODID:-//California Teachers Summit - ECPv4.4.5//NONSGML v1.0//EN
CALSCALE:GREGORIAN
METHOD:PUBLISH
X-WR-CALNAME:California Teachers Summit
X-ORIGINAL-URL:http://cateacherssummit.com
X-WR-CALDESC:Events for California Teachers Summit
BEGIN:VEVENT
DTSTART;TZID=America/Los_Angeles:20190318T190000
DTEND;TZID=America/Los_Angeles:20190318T193000
DTSTAMP:20260421T134429
CREATED:20190305T194130Z
LAST-MODIFIED:20190410T201331Z
UID:1407-1552935600-1552937400@cateacherssummit.com
SUMMARY:#BetterTogetherCA Book Club Twitter Chat with "Kids Deserve It!" Co-Author Adam Welcome
DESCRIPTION:\nYou may have heard that we've launched our first ever #BetterTogetherCA online book club. Throughout the month of March\, we've been reading "Kids Deserve It" and reflecting on questions posed by teacher moderator Angela Barnett.\nWe're thrilled to share that Adam Welcome\, co-author of "Kids Deserve It\," will join us on Monday\, March 18th at 7 PM for a 30 minute chat about the book. Simply log on to Twitter by following and posting with the hashtag #BetterTogetherCA to participate. We look forward to the conversation!
URL:http://cateacherssummit.com/event/bettertogetherca-book-club-twitter-chat-with-kids-deserve-it-co-author-adam-welcome/
CATEGORIES:Twitter Chat
END:VEVENT
END:VCALENDAR