BEGIN:VCALENDAR
VERSION:2.0
PRODID:-//California Teachers Summit - ECPv4.4.5//NONSGML v1.0//EN
CALSCALE:GREGORIAN
METHOD:PUBLISH
X-WR-CALNAME:California Teachers Summit
X-ORIGINAL-URL:http://cateacherssummit.com
X-WR-CALDESC:Events for California Teachers Summit
BEGIN:VEVENT
DTSTART;TZID=America/Los_Angeles:20190126T080000
DTEND;TZID=America/Los_Angeles:20190126T124500
DTSTAMP:20260421T101713
CREATED:20181024T160028Z
LAST-MODIFIED:20181024T160028Z
UID:1340-1548489600-1548506700@cateacherssummit.com
SUMMARY:Amplify Student and Teacher Voice\, Choice\, and Agency with Digital Tools
DESCRIPTION:Two EdTalk style presentation with Q&A and hands-on sessions will be provided. Hands-on sessions will keep teachers actively engaged and allow them to participate in the learning. Participants will walk away with new skills\, having created something they can use in their classrooms. Click here to learn more and register.
URL:http://cateacherssummit.com/event/amplify-student-and-teacher-voice-choice-and-agency-with-digital-tools/
LOCATION:901 E Alosta Ave\, Azusa\, California\, 91702
CATEGORIES:Live Event,Local Event
END:VEVENT
END:VCALENDAR